BEGIN:VCALENDAR
VERSION:2.0
PRODID:-//Plone.org//NONSGML plone.app.event//EN
X-WR-TIMEZONE:Europe/Berlin
BEGIN:VEVENT
SUMMARY:Posidonia oceanica\, tre giorni di iniziative a Civitavecchia con 
 LIFE SEPOSSO
DTSTART;TZID=Europe/Berlin;VALUE=DATE-TIME:20180628T000000
DTEND;TZID=Europe/Berlin;VALUE=DATE-TIME:20180630T000000
DTSTAMP;VALUE=DATE-TIME:20260423T075135Z
UID:f272c6d4443b4ae4a139d2cf158dcf3d@www.isprambiente.gov.it
CREATED;VALUE=DATE-TIME:20180703T133026Z
LAST-MODIFIED;VALUE=DATE-TIME:20230120T134220Z
LOCATION:Civitavecchia
URL:https://www.isprambiente.gov.it/it/archivio/eventi/2018/06/posidonia-o
 ceanica-tre-giorni-di-iniziative-a-civitavecchia-con-life-seposso
END:VEVENT
BEGIN:VTIMEZONE
TZID:Europe/Berlin
X-LIC-LOCATION:Europe/Berlin
BEGIN:DAYLIGHT
DTSTART;VALUE=DATE-TIME:20180325T030000
TZNAME:CEST
TZOFFSETFROM:+0100
TZOFFSETTO:+0200
END:DAYLIGHT
END:VTIMEZONE
END:VCALENDAR
