BEGIN:VCALENDAR
VERSION:2.0
PRODID:-//Plone.org//NONSGML plone.app.event//EN
X-WR-TIMEZONE:Europe/Berlin
BEGIN:VEVENT
SUMMARY:Azioni strategiche di protezione costiera per sviluppare una Cresc
 ita Blu sostenibile
DTSTART;TZID=Europe/Berlin;VALUE=DATE-TIME:20181106T140000
DTEND;TZID=Europe/Berlin;VALUE=DATE-TIME:20181106T170000
DTSTAMP;VALUE=DATE-TIME:20260423T050518Z
UID:63024ba5b9214dbdae33a4feea041e20@www.isprambiente.gov.it
CREATED;VALUE=DATE-TIME:20181018T170521Z
LAST-MODIFIED;VALUE=DATE-TIME:20230120T134220Z
LOCATION:Ecomondo - Fiera di Rimini
URL:https://www.isprambiente.gov.it/it/archivio/eventi/2018/11/azioni-stra
 tegiche-di-protezione-costiera-per-sviluppare-una-crescita-blu-sostenibile
END:VEVENT
BEGIN:VTIMEZONE
TZID:Europe/Berlin
X-LIC-LOCATION:Europe/Berlin
BEGIN:STANDARD
DTSTART;VALUE=DATE-TIME:20181028T020000
TZNAME:CET
TZOFFSETFROM:+0200
TZOFFSETTO:+0100
END:STANDARD
END:VTIMEZONE
END:VCALENDAR
