BEGIN:VCALENDAR
VERSION:2.0
PRODID:-//Plone.org//NONSGML plone.app.event//EN
X-WR-TIMEZONE:Europe/Berlin
BEGIN:VEVENT
SUMMARY:Il monitoraggio per la valutazione dei potenziali effetti dei drag
 aggi sull’ecosistema marino costiero. Criteri\, strumenti e tecnologie a
  supporto
DTSTART;TZID=Europe/Berlin;VALUE=DATE-TIME:20181128T143000
DTEND;TZID=Europe/Berlin;VALUE=DATE-TIME:20181129T130000
DTSTAMP;VALUE=DATE-TIME:20260423T064426Z
UID:d53b60d6576f4f63bdea6a495fbdd866@www.isprambiente.gov.it
CREATED;VALUE=DATE-TIME:20181109T084146Z
LAST-MODIFIED;VALUE=DATE-TIME:20230120T134220Z
LOCATION:Livorno\, Camera di Commercio\, Piazza del Municipio\, 48
URL:https://www.isprambiente.gov.it/it/archivio/eventi/2018/11/il-monitora
 ggio-per-la-valutazione-dei-potenziali-effetti-dei-dragaggi-sull2019ecosis
 tema-marino-costiero.-criteri-strumenti-e-tecnologie-a-supporto
END:VEVENT
BEGIN:VTIMEZONE
TZID:Europe/Berlin
X-LIC-LOCATION:Europe/Berlin
BEGIN:STANDARD
DTSTART;VALUE=DATE-TIME:20181028T020000
TZNAME:CET
TZOFFSETFROM:+0200
TZOFFSETTO:+0100
END:STANDARD
END:VTIMEZONE
END:VCALENDAR
