BEGIN:VCALENDAR
VERSION:2.0
PRODID:-//Plone.org//NONSGML plone.app.event//EN
X-WR-TIMEZONE:Europe/Berlin
BEGIN:VEVENT
SUMMARY:VIII edizione Giornate di Studio “Ricerca e applicazione di meto
 dologie ecotossicologiche” 
DTSTART;TZID=Europe/Berlin;VALUE=DATE-TIME:20181126T120000
DTEND;TZID=Europe/Berlin;VALUE=DATE-TIME:20181128T180000
DTSTAMP;VALUE=DATE-TIME:20260423T091837Z
UID:bd345091f5f94644ad0275a6c6ab12bd@www.isprambiente.gov.it
CREATED;VALUE=DATE-TIME:20180607T094011Z
DESCRIPTION:L’ecotossicologia come strumento di gestione degli ambienti 
 acquatici e terrestri.     La ricerca\, il controllo da parte delle Agenzi
 e\, il mondo dei privati
LAST-MODIFIED;VALUE=DATE-TIME:20230120T134220Z
LOCATION:Livorno\, Camera di Commercio
URL:https://www.isprambiente.gov.it/it/archivio/eventi/2018/11/viii-edizio
 ne-giornate-di-studio-201cricerca-e-applicazione-di-metodologie-ecotossico
 logiche201d
END:VEVENT
BEGIN:VTIMEZONE
TZID:Europe/Berlin
X-LIC-LOCATION:Europe/Berlin
BEGIN:STANDARD
DTSTART;VALUE=DATE-TIME:20181028T020000
TZNAME:CET
TZOFFSETFROM:+0200
TZOFFSETTO:+0100
END:STANDARD
END:VTIMEZONE
END:VCALENDAR
