BEGIN:VCALENDAR
VERSION:2.0
PRODID:-//Plone.org//NONSGML plone.app.event//EN
X-WR-TIMEZONE:Europe/Berlin
BEGIN:VEVENT
SUMMARY:Presentazione del XIV Rapporto sulla qualità dell'ambiente urbano
  Edizione 2018 e delle esperienze innovative SNPA per la qualità dell'amb
 iente urbano
DTSTART;TZID=Europe/Berlin;VALUE=DATE-TIME:20181219T090000
DTEND;TZID=Europe/Berlin;VALUE=DATE-TIME:20181219T133000
DTSTAMP;VALUE=DATE-TIME:20260423T050405Z
UID:37a57dff2d16473b9c5588fc9f5be065@www.isprambiente.gov.it
CREATED;VALUE=DATE-TIME:20181206T112848Z
LAST-MODIFIED;VALUE=DATE-TIME:20230120T134220Z
LOCATION:Roma\, Palazzo Giustiniani\, Sala Zuccari\, Via della Dogana Vecc
 hia\, 29
URL:https://www.isprambiente.gov.it/it/archivio/eventi/2018/12/presentazio
 ne-del-xiv-rapporto-sulla-qualita-dellambiente-urbano
END:VEVENT
BEGIN:VTIMEZONE
TZID:Europe/Berlin
X-LIC-LOCATION:Europe/Berlin
BEGIN:STANDARD
DTSTART;VALUE=DATE-TIME:20181028T020000
TZNAME:CET
TZOFFSETFROM:+0200
TZOFFSETTO:+0100
END:STANDARD
END:VTIMEZONE
END:VCALENDAR
