BEGIN:VCALENDAR
VERSION:2.0
PRODID:-//Plone.org//NONSGML plone.app.event//EN
X-WR-TIMEZONE:Europe/Berlin
BEGIN:VEVENT
SUMMARY:Il Portale del Servizio Geologico d'Italia: dati a servizio del pr
 ofessionista
DTSTART;VALUE=DATE:20190218
DTEND;VALUE=DATE:20190219
DTSTAMP;VALUE=DATE-TIME:20260422T023431Z
UID:1c8b10a1ec9f437085de4cecbf836afd@www.isprambiente.gov.it
CREATED;VALUE=DATE-TIME:20190123T121630Z
LAST-MODIFIED;VALUE=DATE-TIME:20230120T134206Z
LOCATION:Roma\, Sala Convegni del CNR\, P. le A. Moro\, 7
URL:https://www.isprambiente.gov.it/it/archivio/eventi/2019/02/il-portale-
 del-servizio-geologico-ditalia-dati-a-servizio-del-professionista
END:VEVENT
END:VCALENDAR
