BEGIN:VCALENDAR
VERSION:2.0
PRODID:-//Plone.org//NONSGML plone.app.event//EN
X-WR-TIMEZONE:Europe/Berlin
BEGIN:VEVENT
SUMMARY:Presentazione Annuario dei Dati Ambientali
DTSTART;VALUE=DATE:20190319
DTEND;VALUE=DATE:20190320
DTSTAMP;VALUE=DATE-TIME:20260423T220040Z
UID:938137e47f7b4c88bbbd077741cf6622@www.isprambiente.gov.it
CREATED;VALUE=DATE-TIME:20190304T134112Z
LAST-MODIFIED;VALUE=DATE-TIME:20230120T134206Z
LOCATION:Roma\, Sala della Regina\, Palazzo Montecitorio\, Camera dei Depu
 tati 
URL:https://www.isprambiente.gov.it/it/archivio/eventi/2019/03/presentazio
 ne-annuario-dei-dati-ambientali
END:VEVENT
END:VCALENDAR
