BEGIN:VCALENDAR
VERSION:2.0
PRODID:-//Plone.org//NONSGML plone.app.event//EN
X-WR-TIMEZONE:Europe/Berlin
BEGIN:VEVENT
SUMMARY:Presentazione del primo Rapporto ISPRA sul Danno Ambientale. I cas
 i accertati in Italia negli anni 2017 - 2018
DTSTART;TZID=Europe/Berlin;VALUE=DATE-TIME:20191017T093000
DTEND;TZID=Europe/Berlin;VALUE=DATE-TIME:20191017T130000
DTSTAMP;VALUE=DATE-TIME:20260423T134815Z
UID:7cd7aa553d924dd29f79b9ab9082756a@www.isprambiente.gov.it
CREATED;VALUE=DATE-TIME:20191008T164613Z
DESCRIPTION:ISPRA ha presentato il 17 ottobre alla Camera dei Deputati il 
 primo rapporto sull’azione dello Stato in materia di prevenzione e ripar
 azione del danno ambientale. Il Rapporto si sviluppa attraverso la ricostr
 uzione dei casi di danno ambientale e di minaccia di danno ambientale acce
 rtati dal Sistema Nazionale a rete per la Protezione dell’Ambiente (SNPA
 ) negli anni 2017 e 2018 e permette di individuare gli aspetti caratterizz
 anti di una materia poco conosciuta ed in continua evoluzione.
LAST-MODIFIED;VALUE=DATE-TIME:20230120T134219Z
LOCATION:Roma\, Camera dei Deputati\, Sala del Refettorio\, via del Semina
 rio\, 76
URL:https://www.isprambiente.gov.it/it/archivio/eventi/2019/10/il-primo-ra
 pporto-ispra-sul-danno-ambientale.-i-casi-accertati-in-italia-negli-anni-2
 017-2018
END:VEVENT
BEGIN:VTIMEZONE
TZID:Europe/Berlin
X-LIC-LOCATION:Europe/Berlin
BEGIN:DAYLIGHT
DTSTART;VALUE=DATE-TIME:20190331T030000
TZNAME:CEST
TZOFFSETFROM:+0100
TZOFFSETTO:+0200
END:DAYLIGHT
END:VTIMEZONE
END:VCALENDAR
