BEGIN:VCALENDAR
VERSION:2.0
PRODID:-//Plone.org//NONSGML plone.app.event//EN
X-WR-TIMEZONE:Europe/Berlin
BEGIN:VEVENT
SUMMARY:EMAS ed Ecolabel UE nei servizi: strumenti dell’economia circola
 re
DTSTART;TZID=Europe/Berlin;VALUE=DATE-TIME:20191107T140000
DTEND;TZID=Europe/Berlin;VALUE=DATE-TIME:20191107T183000
DTSTAMP;VALUE=DATE-TIME:20260420T104842Z
UID:a2f7bc029cb84b979ab99e3bc52f3042@www.isprambiente.gov.it
CREATED;VALUE=DATE-TIME:20190924T162315Z
DESCRIPTION:Le certificazioni ambientali sono annoverate tra gli strumenti
  che favoriscono la diffusione di nuove abitudini produttive e di consumo 
 e che orientano il mercato verso scelte più ecosostenibili\, attuando mol
 ti degli elementi dell’economia circolare.
LAST-MODIFIED;VALUE=DATE-TIME:20230120T134206Z
LOCATION:Fiera di Rimini - Ecomondo
URL:https://www.isprambiente.gov.it/it/archivio/eventi/2019/11/emas-ed-eco
 label-ue-nei-servizi-strumenti-dell2019economia-circolare
END:VEVENT
BEGIN:VTIMEZONE
TZID:Europe/Berlin
X-LIC-LOCATION:Europe/Berlin
BEGIN:STANDARD
DTSTART;VALUE=DATE-TIME:20191027T020000
TZNAME:CET
TZOFFSETFROM:+0200
TZOFFSETTO:+0100
END:STANDARD
END:VTIMEZONE
END:VCALENDAR
