BEGIN:VCALENDAR
VERSION:2.0
PRODID:-//Plone.org//NONSGML plone.app.event//EN
X-WR-TIMEZONE:Europe/Berlin
BEGIN:VEVENT
SUMMARY:Rapporto Rifiuti Urbani Edizione 2019
DTSTART;VALUE=DATE:20191210
DTEND;VALUE=DATE:20191211
DTSTAMP;VALUE=DATE-TIME:20260420T144523Z
UID:8667c4bdd47b4a5c91b6eeb6d3330d62@www.isprambiente.gov.it
CREATED;VALUE=DATE-TIME:20191205T113619Z
DESCRIPTION:ISPRA ha presentato il 10 dicembre alla Camera dei Deputati il
  Rapporto Rifiuti urbani edizione 2019. Sempre più rifiuti urbani da gest
 ire: mezza tonnellata a testa nel 2018. Trend di nuovo in crescita con il 
 PIL\, urgenti politiche di prevenzione. Sette regioni su venti arrivano al
  65% di differenziata fissato dalla normativa\, salto in avanti per Sicili
 a e Molise. Impianti non al passo con le esigenze della differenziata\, po
 chi e mal distribuiti.
LAST-MODIFIED;VALUE=DATE-TIME:20230120T134219Z
LOCATION:Roma
URL:https://www.isprambiente.gov.it/it/archivio/eventi/2019/12/rapporto-ri
 fiuti-urbani-edizione-2019
END:VEVENT
END:VCALENDAR
