BEGIN:VCALENDAR
VERSION:2.0
PRODID:-//Plone.org//NONSGML plone.app.event//EN
X-WR-TIMEZONE:Europe/Berlin
BEGIN:VEVENT
SUMMARY:Giornata Mondiale dell'Ambiente con i Ministri Costa e Bellanova
DTSTART;TZID=Europe/Berlin;VALUE=DATE-TIME:20200605T103000
DTEND;TZID=Europe/Berlin;VALUE=DATE-TIME:20200605T120000
DTSTAMP;VALUE=DATE-TIME:20260421T203217Z
UID:89eac517ca9f47e4a8476c1a2ca19341@www.isprambiente.gov.it
CREATED;VALUE=DATE-TIME:20200528T131712Z
DESCRIPTION:A livello globale\, un milione di specie a rischio estinzione.
  Tra le cause principali\, le trasformazioni del suolo e i cambiamenti cli
 matici. Bene le aree protette in Europa e in Italia: passi in avanti per g
 estione ed estensione. E’ il momento della natura: dalla nuova strategie
  UE e dall’Accordo Mondiale per la Biodiversità  gli strumenti per ar
 restare il fenomeno.
LAST-MODIFIED;VALUE=DATE-TIME:20230120T134205Z
LOCATION:Diretta web
URL:https://www.isprambiente.gov.it/it/archivio/eventi/2020/06/5-giugno-20
 20-giornata-mondiale-dellambiente
END:VEVENT
BEGIN:VTIMEZONE
TZID:Europe/Berlin
X-LIC-LOCATION:Europe/Berlin
BEGIN:DAYLIGHT
DTSTART;VALUE=DATE-TIME:20200329T030000
TZNAME:CEST
TZOFFSETFROM:+0100
TZOFFSETTO:+0200
END:DAYLIGHT
END:VTIMEZONE
END:VCALENDAR
