BEGIN:VCALENDAR
VERSION:2.0
PRODID:-//Plone.org//NONSGML plone.app.event//EN
X-WR-TIMEZONE:Europe/Berlin
BEGIN:VEVENT
SUMMARY:Consumo di suolo\, dinamiche territoriali e servizi ecosistemici
DTSTART;TZID=Europe/Berlin;VALUE=DATE-TIME:20200722T100000
DTEND;TZID=Europe/Berlin;VALUE=DATE-TIME:20200722T123000
DTSTAMP;VALUE=DATE-TIME:20260419T215927Z
UID:d5ee027a21644842b3a83a72152e4464@www.isprambiente.gov.it
CREATED;VALUE=DATE-TIME:20200709T063137Z
DESCRIPTION:ISPRA ha presentato il 22 luglio i nuovi dati sul consumo di s
 uolo in Italia e l'edizione 2020 del Rapporto del Sistema Nazionale per la
  Protezione dell'Ambiente.  L’aumento del consumo di suolo non va di par
 i passo con la crescita demografica e in Italia cresce più il cemento che
  la popolazione: nel 2019 nascono 420 mila bambini e il suolo ormai sigill
 ato avanza di altri 57 km 2  (57 milioni di metri quadrati) al ritmo\, con
 fermato\, di 2 metri quadrati al secondo. È come se ogni nuovo nato itali
 ano portasse nella culla ben 135 mq di cemento.
LAST-MODIFIED;VALUE=DATE-TIME:20230120T134205Z
LOCATION:Diretta live
URL:https://www.isprambiente.gov.it/it/archivio/eventi/2020/07/consumo-di-
 suolo-dinamiche-territoriali-e-servizi-ecosistemici
END:VEVENT
BEGIN:VTIMEZONE
TZID:Europe/Berlin
X-LIC-LOCATION:Europe/Berlin
BEGIN:DAYLIGHT
DTSTART;VALUE=DATE-TIME:20200329T030000
TZNAME:CEST
TZOFFSETFROM:+0100
TZOFFSETTO:+0200
END:DAYLIGHT
END:VTIMEZONE
END:VCALENDAR
