BEGIN:VCALENDAR
VERSION:2.0
PRODID:-//Plone.org//NONSGML plone.app.event//EN
X-WR-TIMEZONE:Europe/Berlin
BEGIN:VEVENT
SUMMARY:Il progetto NET presenta un dialogo fra un' astrofisica e un natur
 alista: "lo spazio fa bene alla natura"
DTSTART;TZID=Europe/Berlin;VALUE=DATE-TIME:20200807T193000
DTEND;TZID=Europe/Berlin;VALUE=DATE-TIME:20200807T203000
DTSTAMP;VALUE=DATE-TIME:20260420T215604Z
UID:c6ec0a8ee4c74233848e213f4045f39e@www.isprambiente.gov.it
CREATED;VALUE=DATE-TIME:20200804T151650Z
DESCRIPTION:Aspettando la Notte Europea dei Ricercatori\, il progetto NET 
 propone il prossimo 7 agosto a Roma un dialogo fra un’astrofisica e un n
 aturalista Cosa c'entrano gli orsi del Trentino con le astronavi per l'esp
 lorazione dello spazio? E perché è così importante tornare sulla Luna? 
 Gli alieni sono fra noi\, ma non vengono da un altro Pianeta.    Di tutto 
 questo parleranno il Responsabile del servizio coordinamento della fauna s
 elvatica di Ispra e un'astrofisica dell'Istituto di Astrofisica e Planetol
 ogia spaziali di Roma.    Programma     
LAST-MODIFIED;VALUE=DATE-TIME:20230120T134205Z
LOCATION:Roma\, CineVillage Arena Parco Talenti
URL:https://www.isprambiente.gov.it/it/archivio/eventi/2020/08/lo-spazio-f
 a-bene-alla-natura
END:VEVENT
BEGIN:VTIMEZONE
TZID:Europe/Berlin
X-LIC-LOCATION:Europe/Berlin
BEGIN:DAYLIGHT
DTSTART;VALUE=DATE-TIME:20200329T030000
TZNAME:CEST
TZOFFSETFROM:+0100
TZOFFSETTO:+0200
END:DAYLIGHT
END:VTIMEZONE
END:VCALENDAR
