BEGIN:VCALENDAR
VERSION:2.0
PRODID:-//Plone.org//NONSGML plone.app.event//EN
X-WR-TIMEZONE:Europe/Berlin
BEGIN:VEVENT
SUMMARY:IX Edizione delle Giornate di Studio Ricerca e Applicazione di Met
 odologie ecotossicologiche
DTSTART;VALUE=DATE:20201124
DTEND;VALUE=DATE:20201126
DTSTAMP;VALUE=DATE-TIME:20260423T061233Z
UID:d305142effe346019f21c4d8fce792fe@www.isprambiente.gov.it
CREATED;VALUE=DATE-TIME:20200414T171206Z
DESCRIPTION:L’ecotossicologia al tempo del Covid-19. La ricerca\, il con
 trollo da parte delle Agenzie\, il mondo dei privati Come di consueto\, og
 ni 2 anni a partire dal 2006\, ISPRA promuove le Giornate di Studio “Ric
 erca e applicazione di metodologie ecotossicologiche” con la collaborazi
 one ed il supporto di altre istituzioni pubbliche e private. Queste giorna
 te rappresentano un momento di incontro della comunità scientifica italia
 na\, degli enti di controllo\, dei privati e di tutti quei soggetti intere
 ssati alle tematiche ecotossicologiche ed alle loro applicazioni.
LAST-MODIFIED;VALUE=DATE-TIME:20230120T134206Z
URL:https://www.isprambiente.gov.it/it/archivio/eventi/2020/11/ix-edizione
 -delle-giornate-di-studio-201cricerca-e-applicazione-di-metodologie-ecotos
 sicologiche
END:VEVENT
END:VCALENDAR
