BEGIN:VCALENDAR
VERSION:2.0
PRODID:-//Plone.org//NONSGML plone.app.event//EN
X-WR-TIMEZONE:Europe/Berlin
BEGIN:VEVENT
SUMMARY:Stati Generali del Verde Urbano - VI Edizione
DTSTART;VALUE=DATE:20201123
DTEND;VALUE=DATE:20201125
DTSTAMP;VALUE=DATE-TIME:20260424T010841Z
UID:97e8d9c6684249099414dce4260c00b8@www.isprambiente.gov.it
CREATED;VALUE=DATE-TIME:20201110T135309Z
DESCRIPTION:Stati generali del verde urbano è un evento promosso dal Comi
 tato per lo sviluppo del verde pubblico istituito presso il Mattm ai sensi
  della legge 10/2013. Giunto quest’anno alla sua VI edizione\, Stati Gen
 erali è l'occasione per fare il punto - con i protagonisti della politica
 \, della scienza\, dell'economia\, delle arti\, del diritto\, e delle altr
 e scienze sociali – sul ruolo del verde per le nostre città e sul loro 
 futuro. L’evento centrale si è tenuto il 23 novembre in una giornata a
 rticolata in quattro sessioni organizzate dal Comitato per lo sviluppo del
  verde pubblico\, cui parteciperanno rappresentanti di Istituzioni pubblic
 he e del mondo privato. Alla prima sessione ha partecipato il Presidente I
 SPRA Stefano Laporta.
LAST-MODIFIED;VALUE=DATE-TIME:20230120T134206Z
LOCATION:Evento on line
URL:https://www.isprambiente.gov.it/it/archivio/eventi/2020/11/vi-edizione
 -degli-stati-generali-del-verde-urbano
END:VEVENT
END:VCALENDAR
