BEGIN:VCALENDAR
VERSION:2.0
PRODID:-//Plone.org//NONSGML plone.app.event//EN
X-WR-TIMEZONE:Europe/Berlin
BEGIN:VEVENT
SUMMARY:Interreg Alpine SpaceEco-AlpsWater Workshop
DTSTART;VALUE=DATE:20201209
DTEND;VALUE=DATE:20201211
DTSTAMP;VALUE=DATE-TIME:20260423T044856Z
UID:2c0002ab4eb645c1a436ace5f3cfa641@www.isprambiente.gov.it
CREATED;VALUE=DATE-TIME:20201201T105526Z
DESCRIPTION:Il 9 e il 10 dicembre 2020 si terrà il workshop digitale in l
 ingua inglese del progetto EcoAlpsWater aperto a tutti i colleghi interess
 ati alle tematiche di ricerca sul DNA ambientale e alle tecniche di metage
 nomica.   Il workshop\, consisterà in diversi seminari che tratteranno la
  descrizione e la logica delle attività in corso nel Progetto\, il loro s
 tato\, risultati e prospettive. Nel complesso\, sarà un evento di trasfer
 imento delle conoscenze\, in linea con uno dei principali obiettivi del pr
 ogetto stesso.
LAST-MODIFIED;VALUE=DATE-TIME:20230120T134206Z
LOCATION:Evento on line
URL:https://www.isprambiente.gov.it/it/archivio/eventi/2020/12/interreg-al
 pine-spaceeco-alpswater-workshop
END:VEVENT
END:VCALENDAR
