BEGIN:VCALENDAR
VERSION:2.0
PRODID:-//Plone.org//NONSGML plone.app.event//EN
X-WR-TIMEZONE:Europe/Berlin
BEGIN:VEVENT
SUMMARY:Primo Rapporto ISPRA sulle criticità ambientali. Le attività del
 l’Istituto in applicazione del principio di precauzione e la prevenzione
  degli effetti ambientali
DTSTART;TZID=Europe/Berlin;VALUE=DATE-TIME:20201215T100000
DTEND;TZID=Europe/Berlin;VALUE=DATE-TIME:20201215T133000
DTSTAMP;VALUE=DATE-TIME:20260425T222449Z
UID:bac3d6a9777e4ed0bfa1e779908f4bbd@www.isprambiente.gov.it
CREATED;VALUE=DATE-TIME:20201209T144423Z
DESCRIPTION:Il prossimo 15 dicembre ISPRA presenta il primo rapporto sulle
  attività svolte dall’Istituto nel biennio 2018-2019 nell’ambito dell
 e richieste di supporto pervenute dal Ministero dell’Ambiente e della Tu
 tela del Territorio e del Mare in materia di prevenzione del rischio ambie
 ntale. Oltre a trattare due casi specifici (Incendio dell’area industria
 le di Porto Torres (SS) e la Discarica di Mazzarrà Sant’Andrea (ME) nel
 l’ambito di una tavola rotonda si discuterà del Principio di Precauzion
 e introdotto dal D. Lgs n. 152/2006. Il D.Lgs. 152/2006\, che disciplina\,
  tra l'altro\, le procedure relative alla bonifica\, alla minaccia o al da
 nno ambientale ha ampliato la sfera dell’azione amministrativa in via pr
 eventiva\, alle situazioni di crisi ed emergenza ambientale\, introducendo
  da una parte\, la possibilità per qualsiasi soggetto interessato di atti
 vare il MATTM al fine di valutare il pericolo per l’ambiente e gli effet
 ti sulle matrici ambientali interessate\, dall’altra\, dando nuovo vigor
 e all’azione di controllo del territorio ad opera del Sistema Nazionale 
 per la Protezione dell'Ambiente che\, in applicazione del principio di pre
 cauzione\, ha predisposto interventi operativi e valutazioni di tipo tecni
 co-scientifiche per la prevenzione del rischio ambientale in situazioni se
 gnalate di crisi o di emergenza.
LAST-MODIFIED;VALUE=DATE-TIME:20230120T134206Z
LOCATION:Evento on line
URL:https://www.isprambiente.gov.it/it/archivio/eventi/2020/12/primo-rappo
 rto-ispra-sulle-criticita-ambientali
END:VEVENT
BEGIN:VTIMEZONE
TZID:Europe/Berlin
X-LIC-LOCATION:Europe/Berlin
BEGIN:STANDARD
DTSTART;VALUE=DATE-TIME:20201025T020000
TZNAME:CET
TZOFFSETFROM:+0200
TZOFFSETTO:+0100
END:STANDARD
END:VTIMEZONE
END:VCALENDAR
