BEGIN:VCALENDAR
VERSION:2.0
PRODID:-//Plone.org//NONSGML plone.app.event//EN
X-WR-TIMEZONE:Europe/Berlin
BEGIN:VEVENT
SUMMARY:Le norme tecniche per la redazione degli studi di impatto ambienta
 le
DTSTART;VALUE=DATE:20210303
DTEND;VALUE=DATE:20210401
DTSTAMP;VALUE=DATE-TIME:20260423T104627Z
UID:53f87b464c4c4421a45a81261ee8eafa@www.isprambiente.gov.it
CREATED;VALUE=DATE-TIME:20210211T115047Z
DESCRIPTION:Serie di incontri tematici per presentare il documento SNPA "V
 alutazione di impatto ambientale. Norme tecniche per la redazione degli st
 udi di impatto ambientale" e i suoi approfondimenti Un  prodotto SNPA \, a
 ggiornato e corredato di approfondimenti tematici\, che rappresenta uno st
 rumento indispensabile per gli estensori degli studi di impatto ambientale
  e per i valutatori.
LAST-MODIFIED;VALUE=DATE-TIME:20230120T134154Z
LOCATION:Webinar
URL:https://www.isprambiente.gov.it/it/archivio/eventi/2021/03/le-norme-te
 cniche-per-la-redazione-degli-studi-di-impatto-ambientale
END:VEVENT
END:VCALENDAR
