BEGIN:VCALENDAR
VERSION:2.0
PRODID:-//Plone.org//NONSGML plone.app.event//EN
X-WR-TIMEZONE:Europe/Berlin
BEGIN:VEVENT
SUMMARY:Biodiversità: siamo parte della soluzione
DTSTART;VALUE=DATE:20210520
DTEND;VALUE=DATE:20210523
DTSTAMP;VALUE=DATE-TIME:20260420T094219Z
UID:7e89a0d399044e5d92854197a8e8f81a@www.isprambiente.gov.it
CREATED;VALUE=DATE-TIME:20210511T073424Z
DESCRIPTION:Dialoghi sull biodiversità: Due eventi per capire come siamo 
 “parte della soluzione” dando voce a scienziati e intellettuali In occ
 asione della Giornata Mondiale per la Biodiversità 2021 e all'interno del
 la settimana della natura organizzata dal Ministero per la Transizione Eco
 logica (MITE)\, l'ISPRA organizza due eventi nelle giornate del 20 e 22 ma
 ggio dove si confronteranno personalità della politica\, della scienza e 
 della cultura. Saranno invitati a riflettere\, nella sfera delle proprie c
 ompetenze e responsabilità\, sul tema "Siamo parte della Soluzione"\, esp
 onendo il contributo che possono dare per fermare e invertire il drammatic
 o declino della biodiversità\, favorire l'uso sostenibile della stessa bi
 odiversità e una equa e giusta condivisione dei benefici che da essa deri
 vano. La Convenzione ONU per la Diversità Biologica (CBD) ha scelto lo sl
 ogan "Siamo parte della Soluzione". Questo slogan è stato deciso per dare
  continuità a quello della Giornata del 2020\, "Le nostre soluzioni sono 
 nella natura"\, per sottolineare che nella natura risiede la risposta alle
  sfide per procedere verso lo sviluppo sostenibile.
LAST-MODIFIED;VALUE=DATE-TIME:20230120T134154Z
LOCATION:Evento online
URL:https://www.isprambiente.gov.it/it/archivio/eventi/2021/05/dialoghi-su
 lla-biodiversita
END:VEVENT
END:VCALENDAR
