BEGIN:VCALENDAR
VERSION:2.0
PRODID:-//Plone.org//NONSGML plone.app.event//EN
X-WR-TIMEZONE:Europe/Berlin
BEGIN:VEVENT
SUMMARY:Kick-off meeting del programma di co-creazione del progetto Water 
 Health Open knoWledge – WHOW
DTSTART;TZID=Europe/Berlin;VALUE=DATE-TIME:20210510T153000
DTEND;TZID=Europe/Berlin;VALUE=DATE-TIME:20210510T173000
DTSTAMP;VALUE=DATE-TIME:20260421T233647Z
UID:830e6e6446f64bbea64f6c5b40e5c22b@www.isprambiente.gov.it
CREATED;VALUE=DATE-TIME:20210504T062919Z
DESCRIPTION:Evento Partner della EU Green Week  (3 maggio 2021 – 13 giu
 gno 2021)    Nell’ambito del programma europeo Programma Connecting Euro
 pe Facility (CEF)\, ISPRA partecipa al progetto Water Health Open knoWledg
 e (WHOW)\, avviato a settembre 2020. Principale obiettivo del progetto è 
 lo sviluppo del primo knowledge graph europeo sul consumo e sulla qualità
  di acque superficiali\, sotterranee e marine\, con dati provenienti da di
 verse fonti nazionali ed europee.
LAST-MODIFIED;VALUE=DATE-TIME:20230120T134154Z
LOCATION:Evento online
URL:https://www.isprambiente.gov.it/it/archivio/eventi/2021/05/kick-off-me
 eting-del-programma-di-co-creazione-del-progetto-water-health-open-knowled
 ge-2013-whow
END:VEVENT
BEGIN:VTIMEZONE
TZID:Europe/Berlin
X-LIC-LOCATION:Europe/Berlin
BEGIN:DAYLIGHT
DTSTART;VALUE=DATE-TIME:20210328T030000
TZNAME:CEST
TZOFFSETFROM:+0100
TZOFFSETTO:+0200
END:DAYLIGHT
END:VTIMEZONE
END:VCALENDAR
