BEGIN:VCALENDAR
VERSION:2.0
PRODID:-//Plone.org//NONSGML plone.app.event//EN
X-WR-TIMEZONE:Europe/Berlin
BEGIN:VEVENT
SUMMARY:Statistiche ambientali per le politiche di coesione 2014-2020
DTSTART;TZID=Europe/Berlin;VALUE=DATE-TIME:20210708T103000
DTEND;TZID=Europe/Berlin;VALUE=DATE-TIME:20210708T123000
DTSTAMP;VALUE=DATE-TIME:20260423T030412Z
UID:9405c2731ef64547bfc97afefb672a96@www.isprambiente.gov.it
CREATED;VALUE=DATE-TIME:20210623T113032Z
DESCRIPTION:Dal maggio del 2018 ISPRA è beneficiaria del Progetto finaliz
 zato ad ampliare il set di indicatori territoriali oggi rilasciati dalla s
 tatistica pubblica in materia ambientale\, soddisfacendo da un lato le nuo
 ve richieste informative internazionali (ad esempio  SDG indicators  di ri
 levanza ambientale) e contestualmente allineare temporalmente la disponibi
 lità di dati e indicatori alle esigenze informative di programmatori e at
 tuatori delle politiche pubbliche nazionali e locali\, migliorando in term
 ini di granularità territoriale e tempestività gli indicatori ambientali
  di competenza ISPRA di interesse progettuale.
LAST-MODIFIED;VALUE=DATE-TIME:20230120T134205Z
LOCATION:Evento online
URL:https://www.isprambiente.gov.it/it/archivio/eventi/2021/07/statistiche
 -ambientali-per-le-politiche-di-coesione-2014-2020
END:VEVENT
BEGIN:VTIMEZONE
TZID:Europe/Berlin
X-LIC-LOCATION:Europe/Berlin
BEGIN:DAYLIGHT
DTSTART;VALUE=DATE-TIME:20210328T030000
TZNAME:CEST
TZOFFSETFROM:+0100
TZOFFSETTO:+0200
END:DAYLIGHT
END:VTIMEZONE
END:VCALENDAR
