BEGIN:VCALENDAR
VERSION:2.0
PRODID:-//Plone.org//NONSGML plone.app.event//EN
X-WR-TIMEZONE:Europe/Berlin
BEGIN:VEVENT
SUMMARY:Meeting Nazionale Progetto EcoAlpsWater
DTSTART;TZID=Europe/Berlin;VALUE=DATE-TIME:20210910T094500
DTEND;TZID=Europe/Berlin;VALUE=DATE-TIME:20210910T133000
DTSTAMP;VALUE=DATE-TIME:20260423T030412Z
UID:00c1da0481bb40da8944c67178ba5e71@www.isprambiente.gov.it
CREATED;VALUE=DATE-TIME:20210804T085758Z
DESCRIPTION:Venerdì 10 settembre 2021 si terrà il Meeting Nazionale per 
 la fine del progetto EcoAlpsWater “Innovative Ecological Assessment and 
 Water Management Strategy for the Protection of Ecosystem Services in Alpi
 ne Lakes and Rivers”.
LAST-MODIFIED;VALUE=DATE-TIME:20230120T134205Z
LOCATION:Evento online
URL:https://www.isprambiente.gov.it/it/archivio/eventi/2021/09/national-me
 eting-del-progetto-eco-alpswater
END:VEVENT
BEGIN:VTIMEZONE
TZID:Europe/Berlin
X-LIC-LOCATION:Europe/Berlin
BEGIN:DAYLIGHT
DTSTART;VALUE=DATE-TIME:20210328T030000
TZNAME:CEST
TZOFFSETFROM:+0100
TZOFFSETTO:+0200
END:DAYLIGHT
END:VTIMEZONE
END:VCALENDAR
