BEGIN:VCALENDAR
VERSION:2.0
PRODID:-//Plone.org//NONSGML plone.app.event//EN
X-WR-TIMEZONE:Europe/Berlin
BEGIN:VEVENT
SUMMARY:Giornate di Studio - L'acqua da modificante a modificata
DTSTART;VALUE=DATE:20211104
DTEND;VALUE=DATE:20211106
DTSTAMP;VALUE=DATE-TIME:20260423T030406Z
UID:1f43b59898d349dba3ebf65ebdc4f9e2@www.isprambiente.gov.it
CREATED;VALUE=DATE-TIME:20211020T134326Z
DESCRIPTION:“L’acqua disfa li monti e riempie le valli e vorrebbe ridu
 rre la Terra in perfetta sfericità\, s’ella potesse.” Così Leonardo 
 Da Vinci\, vissuto tra la metà del ‘400 e i primi anni del ‘500\, vei
 cola in maniera chiara l’immagine di un elemento naturale che forma e cr
 ea i paesaggi. Siamo in un momento storico in cui l’acqua è più che ma
 i una risorsa da governare e con la quale è necessario “dialogare”. S
 iamo però anche eredi di un duplice rapporto\, uomo-acqua\, la cui “sin
 ergia” è stata accantonata a vantaggio di atteggiamenti di “egemonia
 ” dell’uomo verso l’elemento acqua\, dove fiumi\, canali e sorgenti 
 sono un ostacolo al controllo del territorio. Questo cambiamento è partic
 olarmente evidente nelle azioni compiute sul territorio per la gestione de
 lle risorse idriche\, soprattutto dalla seconda metà del secolo scorso.
LAST-MODIFIED;VALUE=DATE-TIME:20230120T134205Z
LOCATION:Roma\, Ente Parco Regionale dell'Appia Antica
URL:https://www.isprambiente.gov.it/it/archivio/eventi/2021/11/giornate-di
 -studio-lacqua-da-modificante-a-modificata
END:VEVENT
END:VCALENDAR
