BEGIN:VCALENDAR
VERSION:2.0
PRODID:-//Plone.org//NONSGML plone.app.event//EN
X-WR-TIMEZONE:Europe/Berlin
BEGIN:VEVENT
SUMMARY:Il Sistema SINTAI per la divulgazione e consultazione dei dati naz
 ionali in materia di acque
DTSTART;TZID=Europe/Berlin;VALUE=DATE-TIME:20211103T100000
DTEND;TZID=Europe/Berlin;VALUE=DATE-TIME:20211103T130000
DTSTAMP;VALUE=DATE-TIME:20260422T223232Z
UID:eefd8c78101a43869a7e7426196db582@www.isprambiente.gov.it
CREATED;VALUE=DATE-TIME:20211014T123247Z
DESCRIPTION:Obiettivo del webinar è illustrare la sezione WebGis del  SIN
 TAI \, finalizzata alla divulgazione delle informazioni e dei dati ufficia
 li relativi alle acque italiane\, acquisiti ed elaborati in ottemperanza a
 gli obblighi dell’Unione europea e agli accordi internazionali in materi
 a di reporting ambientale.
LAST-MODIFIED;VALUE=DATE-TIME:20230120T134205Z
LOCATION:Evento online
URL:https://www.isprambiente.gov.it/it/archivio/eventi/2021/11/il-sistema-
 sintai-per-la-divulgazione-e-consultazione-dei-dati-nazionali-in-materia-d
 i-acque
END:VEVENT
BEGIN:VTIMEZONE
TZID:Europe/Berlin
X-LIC-LOCATION:Europe/Berlin
BEGIN:STANDARD
DTSTART;VALUE=DATE-TIME:20211031T020000
TZNAME:CET
TZOFFSETFROM:+0200
TZOFFSETTO:+0100
END:STANDARD
END:VTIMEZONE
END:VCALENDAR
