BEGIN:VCALENDAR
VERSION:2.0
PRODID:-//Plone.org//NONSGML plone.app.event//EN
X-WR-TIMEZONE:Europe/Berlin
BEGIN:VEVENT
SUMMARY:Presentazione Rapporto ISPRA sulle condizioni di pericolosità da 
 alluvione in Italia e indicatori di rischio associati
DTSTART;TZID=Europe/Berlin;VALUE=DATE-TIME:20211116T093000
DTEND;TZID=Europe/Berlin;VALUE=DATE-TIME:20211116T130000
DTSTAMP;VALUE=DATE-TIME:20260422T224951Z
UID:f6ae442112be4a2bab93992bdcf5e43b@www.isprambiente.gov.it
CREATED;VALUE=DATE-TIME:20211110T102110Z
DESCRIPTION:ISPRA ha presentato il 16 novembre il Rapporto sulle condizion
 i di pericolosità da alluvione in Italia e indicatori di rischio associat
 i realizzato dall'Istituto con i dati sulle aree allagabili aggiornati al 
 2020. Il Workshop è stato l'occasione per illustrare le attività svolte 
 ai fini della valutazione e della gestione del rischio di alluvioni da Aut
 orità di Bacino Distrettuali\, Regioni e Province autonome con il coordin
 amento e il supporto tecnico del MiTE\, dell'ISPRA e del Dipartimento dell
 a Protezione Civile. Nel corso del Workshop oltre al Rapporto sono state i
 llustrate alcune delle attività svolte dal MiTE\, dal DPC e dalle Autorit
 à di Bacino Distrettuali nel cammino verso la definizione del nuovo Piano
  di Gestione del Rischio di Alluvioni 2021.
LAST-MODIFIED;VALUE=DATE-TIME:20230120T134205Z
LOCATION:Evento online
URL:https://www.isprambiente.gov.it/it/archivio/eventi/2021/11/presentazio
 ne-rapporto-ispra-ulle-condizioni-di-pericolosita-da-alluvione-in-italia-e
 -indicatori-di-rischio-associati
END:VEVENT
BEGIN:VTIMEZONE
TZID:Europe/Berlin
X-LIC-LOCATION:Europe/Berlin
BEGIN:STANDARD
DTSTART;VALUE=DATE-TIME:20211031T020000
TZNAME:CET
TZOFFSETFROM:+0200
TZOFFSETTO:+0100
END:STANDARD
END:VTIMEZONE
END:VCALENDAR
