BEGIN:VCALENDAR
VERSION:2.0
PRODID:-//Plone.org//NONSGML plone.app.event//EN
X-WR-TIMEZONE:Europe/Berlin
BEGIN:VEVENT
SUMMARY:Stato e trend del clima in Italia
DTSTART;TZID=Europe/Berlin;VALUE=DATE-TIME:20211110T103000
DTEND;TZID=Europe/Berlin;VALUE=DATE-TIME:20211110T130000
DTSTAMP;VALUE=DATE-TIME:20260422T222751Z
UID:2b9fe25b7484447f81ca6b4b50b7c5c8@www.isprambiente.gov.it
CREATED;VALUE=DATE-TIME:20211028T104740Z
DESCRIPTION:Il 10 novembre ISPRA ha presentato lo stato e il trend del cli
 ma in Italia. Nel corso del webinar sono stati illustrati i risultati dell
 ’ultimo rapporto “Gli indicatori del clima in Italia”\, giunto nel 2
 021 alla XVI edizione. Il rapporto\, che descrive l’andamento del clima 
 nel 2020 e aggiorna la stima delle variazioni climatiche negli ultimi dece
 nni in Italia\, si basa in gran parte su dati e indicatori climatici elabo
 rati attraverso il Sistema nazionale per la raccolta\, l’elaborazione e 
 la diffusione di dati Climatologici di Interesse Ambientale ( SCIA )\, rea
 lizzato dall’ISPRA e alimentato in collaborazione con le ARPA e con altr
 i organismi titolari delle principali reti osservative presenti sul territ
 orio nazionale.
LAST-MODIFIED;VALUE=DATE-TIME:20230120T134205Z
LOCATION:Evento online
URL:https://www.isprambiente.gov.it/it/archivio/eventi/2021/11/stato-e-tre
 nd-del-clima-in-italia
END:VEVENT
BEGIN:VTIMEZONE
TZID:Europe/Berlin
X-LIC-LOCATION:Europe/Berlin
BEGIN:STANDARD
DTSTART;VALUE=DATE-TIME:20211031T020000
TZNAME:CET
TZOFFSETFROM:+0200
TZOFFSETTO:+0100
END:STANDARD
END:VTIMEZONE
END:VCALENDAR
