BEGIN:VCALENDAR
VERSION:2.0
PRODID:-//Plone.org//NONSGML plone.app.event//EN
X-WR-TIMEZONE:Europe/Berlin
BEGIN:VEVENT
SUMMARY:Transizione Ecologica Aperta. Dove va l'ambiente italiano?
DTSTART;TZID=Europe/Berlin;VALUE=DATE-TIME:20211213T150000
DTEND;TZID=Europe/Berlin;VALUE=DATE-TIME:20211213T163000
DTSTAMP;VALUE=DATE-TIME:20260423T025647Z
UID:48edf0f3c2694cfda449ff9af7fd446f@www.isprambiente.gov.it
CREATED;VALUE=DATE-TIME:20211130T071249Z
DESCRIPTION:Un paese coperto quasi al 40% da foreste\, più di Germania e 
 Svizzera\, e che ha visto crescere le aree protette di terra e di mare fin
 o al 20% del territorio nazionale. Si riducono le emissioni di gas serra\,
  calate del 19% negli ultimi 30 anni\, come anche le principali fonti di i
 nquinamento atmosferico. Preoccupano però l’ozono\, la situazione dei g
 randi centri urbani e la Pianura Padana. Non dà tregua l’aumento delle 
 temperature dal 1985\, si aggravano le isole di calore nelle città.
LAST-MODIFIED;VALUE=DATE-TIME:20230120T134205Z
LOCATION:Evento online
URL:https://www.isprambiente.gov.it/it/archivio/eventi/2021/12/transizione
 -ecologica-aperta-dove-va-lambiente-italiano
END:VEVENT
BEGIN:VTIMEZONE
TZID:Europe/Berlin
X-LIC-LOCATION:Europe/Berlin
BEGIN:STANDARD
DTSTART;VALUE=DATE-TIME:20211031T020000
TZNAME:CET
TZOFFSETFROM:+0200
TZOFFSETTO:+0100
END:STANDARD
END:VTIMEZONE
END:VCALENDAR
