BEGIN:VCALENDAR
VERSION:2.0
PRODID:-//Plone.org//NONSGML plone.app.event//EN
X-WR-TIMEZONE:Europe/Berlin
BEGIN:VEVENT
SUMMARY:Jelly. Sistemi e strumenti di localizzazione dei banchi di meduse 
 e predizione del loro spostamento verso la costa
DTSTART;TZID=Europe/Berlin;VALUE=DATE-TIME:20220615T093000
DTEND;TZID=Europe/Berlin;VALUE=DATE-TIME:20220615T130000
DTSTAMP;VALUE=DATE-TIME:20260420T185803Z
UID:bb8e8a3e0d564497959e5dcdc85104ed@www.isprambiente.gov.it
CREATED;VALUE=DATE-TIME:20220603T130759Z
DESCRIPTION:Nell'ultimo decennio la presenza di meduse nel Mar Mediterrane
 o è in aumento con impatti significativi sull'ambiente marino e su alcune
  attività umane. Per mitigare questo fenomeno\, è allo studio una strate
 gia che prevede la creazione di sistemi di preallarme e previsione basati 
 su osservazioni su larga scala e su modelli numerici come quelli disponibi
 li dai prodotti Copernicus (EO e altri dati del Marine Environment Monitor
 ing Service).
LAST-MODIFIED;VALUE=DATE-TIME:20230120T134153Z
LOCATION:Evento online
URL:https://www.isprambiente.gov.it/it/archivio/eventi/2022/06/sistemi-e-s
 trumenti-di-localizzazione-dei-banchi-di-meduse-e-predizione-del-loro-spos
 tamento-verso-la-costa
END:VEVENT
BEGIN:VTIMEZONE
TZID:Europe/Berlin
X-LIC-LOCATION:Europe/Berlin
BEGIN:DAYLIGHT
DTSTART;VALUE=DATE-TIME:20220327T030000
TZNAME:CEST
TZOFFSETFROM:+0100
TZOFFSETTO:+0200
END:DAYLIGHT
END:VTIMEZONE
END:VCALENDAR
