BEGIN:VCALENDAR
VERSION:2.0
PRODID:-//Plone.org//NONSGML plone.app.event//EN
X-WR-TIMEZONE:Europe/Berlin
BEGIN:VEVENT
SUMMARY:Giornate di Studio: L’acqua “da modificante a modificata” - 
 II Edizione
DTSTART;TZID=Europe/Berlin;VALUE=DATE-TIME:20221104T093000
DTEND;TZID=Europe/Berlin;VALUE=DATE-TIME:20221104T153000
DTSTAMP;VALUE=DATE-TIME:20260423T025647Z
UID:210f9a7447d0426db0349858a11f699c@www.isprambiente.gov.it
CREATED;VALUE=DATE-TIME:20221017T082902Z
DESCRIPTION:Sulla necessità di ricucire la relazione territoriale e cultu
 rale tra Uomo e Acqua in aree in cui è stata ridotta all’indifferenza. 
 La riscoperta dopo la pandemia. La fine graduale dell’isolamento dovuto 
 alla pandemia e la ripresa della vita quotidiana\, intrisa ancora di paura
  di alcune forme di socialità e della consapevolezza della fallibilità t
 ecnologica\, hanno accelerato il processo di una ripresa consapevole di un
  sano rapporto con il territorio. Un processo di riscoperta del quotidian
 o che sta passando attraverso la riscoperta del rispetto dovuto al territo
 rio\, in un momento storico in cui anche la progettualità\, attraverso il
  PNRR\, punta ad un approccio al paesaggio totalmente nuovo e più sosteni
 bile.
LAST-MODIFIED;VALUE=DATE-TIME:20230120T134153Z
LOCATION:Sala Conferenze della Cartiera Latina - via Appia Antica 42\, Rom
 a
URL:https://www.isprambiente.gov.it/it/archivio/eventi/2022/10/giornate-di
 -studio-l-acqua-da-modificante-a-modificata-ii-edizione
END:VEVENT
BEGIN:VTIMEZONE
TZID:Europe/Berlin
X-LIC-LOCATION:Europe/Berlin
BEGIN:STANDARD
DTSTART;VALUE=DATE-TIME:20221030T020000
TZNAME:CET
TZOFFSETFROM:+0200
TZOFFSETTO:+0100
END:STANDARD
END:VTIMEZONE
END:VCALENDAR
