BEGIN:VCALENDAR
VERSION:2.0
PRODID:-//Plone.org//NONSGML plone.app.event//EN
X-WR-TIMEZONE:Europe/Berlin
BEGIN:VEVENT
SUMMARY:Presentazione "Atlante dei dati ambientali"
DTSTART;TZID=Europe/Berlin;VALUE=DATE-TIME:20230503T160000
DTEND;TZID=Europe/Berlin;VALUE=DATE-TIME:20230503T170000
DTSTAMP;VALUE=DATE-TIME:20260423T061620Z
UID:045bb9953c3e49379a9d82d99536e8f5@www.isprambiente.gov.it
CREATED;VALUE=DATE-TIME:20230427T121914Z
DESCRIPTION:Nell'ambito del  Green Med Symposium \, ISPRA ha presentato og
 gi l 'Atlante dei dati ambientali\, un volume che offre una panoramica e u
 na prima selezione dei principali dati ambientali. L'Atlante fornisce rapp
 resentazioni cartografiche che mostrano la distribuzione geografica delle 
 principali informazioni ambientali che\, insieme a grafici\, tabelle e tes
 ti\, illustrano lo stato dell'intero territorio nazionale.     L'obiettivo
  è quello di fornire informazioni scientifiche\, accurate e aggiornate su
  temi quali suolo\, acqua\, biodiversità\, aria\, clima\, rifiuti\, energ
 ia e impatti ambientali delle attività umane e\, allo stesso tempo\, di a
 iutare a prendere coscienza delle sfide ambientali che ci attendono e cont
 ribuire al raggiungimento degli obiettivi di sviluppo sostenibile.
LAST-MODIFIED;VALUE=DATE-TIME:20240115T113003Z
LOCATION:Napoli\, Stazione marittima
URL:https://www.isprambiente.gov.it/it/archivio/eventi/2023/05/presentazio
 ne-atlante-dei-dati-ambientali
END:VEVENT
BEGIN:VTIMEZONE
TZID:Europe/Berlin
X-LIC-LOCATION:Europe/Berlin
BEGIN:DAYLIGHT
DTSTART;VALUE=DATE-TIME:20230326T030000
TZNAME:CEST
TZOFFSETFROM:+0100
TZOFFSETTO:+0200
END:DAYLIGHT
END:VTIMEZONE
END:VCALENDAR
