BEGIN:VCALENDAR
VERSION:2.0
PRODID:-//Plone.org//NONSGML plone.app.event//EN
X-WR-TIMEZONE:Europe/Berlin
BEGIN:VEVENT
SUMMARY:Cosa scorre sotto i nostri piedi? Le acque sotterranee di Roma nel
  contesto del clima che cambia
DTSTART;TZID=Europe/Berlin;VALUE=DATE-TIME:20230928T093000
DTEND;TZID=Europe/Berlin;VALUE=DATE-TIME:20230928T163000
DTSTAMP;VALUE=DATE-TIME:20260420T155959Z
UID:87a867edcda245778b34a45758beafd1@www.isprambiente.gov.it
CREATED;VALUE=DATE-TIME:20230918T144758Z
DESCRIPTION:L’approvvigionamento dell’acqua della città di Roma deriv
 a principalmente da sorgenti situate a diversi chilometri dal centro citt
 à\, in zone appenniniche o vulcaniche. Tuttavia\, nel sottosuolo del più
  vasto comune d’Italia sono immagazzinate risorse idriche significative.
  Tali risorse\, le acque sotterranee\, sono contenute in veri e propri ser
 batoi sotterranei naturali\, gli acquiferi\, che nell’area romana posson
 o essere di natura vulcanica e alluvionale\, in alcuni casi anche sovrappo
 sti\, che creano una circolazione idrica sotterranea piuttosto articolata.
LAST-MODIFIED;VALUE=DATE-TIME:20240125T083219Z
LOCATION:Roma\, Palazzo Valentini
URL:https://www.isprambiente.gov.it/it/archivio/eventi/2023/09/acque-sotte
 rranee
END:VEVENT
BEGIN:VTIMEZONE
TZID:Europe/Berlin
X-LIC-LOCATION:Europe/Berlin
BEGIN:DAYLIGHT
DTSTART;VALUE=DATE-TIME:20230326T030000
TZNAME:CEST
TZOFFSETFROM:+0100
TZOFFSETTO:+0200
END:DAYLIGHT
END:VTIMEZONE
END:VCALENDAR
