BEGIN:VCALENDAR
VERSION:2.0
PRODID:-//Plone.org//NONSGML plone.app.event//EN
X-WR-TIMEZONE:Europe/Berlin
BEGIN:VEVENT
SUMMARY:L'agorà dei suoli italiani. #tuttigiuperterra
DTSTART;TZID=Europe/Berlin;VALUE=DATE-TIME:20230913T090000
DTEND;TZID=Europe/Berlin;VALUE=DATE-TIME:20230913T160000
DTSTAMP;VALUE=DATE-TIME:20260424T124425Z
UID:917b9c6e5be94603b37080a74feb7b09@www.isprambiente.gov.it
CREATED;VALUE=DATE-TIME:20230727T090121Z
DESCRIPTION:“Con l’incontro di oggi avviamo un confronto ed un approfo
 ndimento della proposta di Direttiva UE sul Suolo\, discutendo di priorit
 à e specificità nazionali da considerare e di come affrontare al meglio 
 la definizione delle misure\, a partire dal monitoraggio del suolo e del t
 erritorio - ha dichiarato il Presidente ISPRA\, Stefano Laporta - Senza d
 imenticare la funzione centrale e cruciale delle Regioni e di tutte le ist
 ituzioni che hanno un ruolo rilevante per la gestione del territorio.”
LAST-MODIFIED;VALUE=DATE-TIME:20240125T083133Z
LOCATION:Roma\, Palazzo Merulana
URL:https://www.isprambiente.gov.it/it/archivio/eventi/2023/09/agora-suoli
 -italiani
END:VEVENT
BEGIN:VTIMEZONE
TZID:Europe/Berlin
X-LIC-LOCATION:Europe/Berlin
BEGIN:DAYLIGHT
DTSTART;VALUE=DATE-TIME:20230326T030000
TZNAME:CEST
TZOFFSETFROM:+0100
TZOFFSETTO:+0200
END:DAYLIGHT
END:VTIMEZONE
END:VCALENDAR
