BEGIN:VCALENDAR
VERSION:2.0
PRODID:-//Plone.org//NONSGML plone.app.event//EN
X-WR-TIMEZONE:Europe/Berlin
BEGIN:VEVENT
SUMMARY:Rifiuti urbani in Italia: produzione\, raccolta\, gestione e recup
 ero energetico. Presentazione dei rapporti ISPRA e Utilitalia 2023
DTSTART;TZID=Europe/Berlin;VALUE=DATE-TIME:20231221T093000
DTEND;TZID=Europe/Berlin;VALUE=DATE-TIME:20231221T133000
DTSTAMP;VALUE=DATE-TIME:20260424T132610Z
UID:2217ed13cd4349d1ad6bba1783f53454@www.isprambiente.gov.it
CREATED;VALUE=DATE-TIME:20231206T133152Z
DESCRIPTION:Rifiuti urbani\, in calo la produzione dell'1\,8% rispetto al 
 2021. La raccolta differenziata nazionale supera il 65%. Il 49\,2% dei rif
 iuti urbani è riciclato ma ancora ampia la differenza rispetto alla racco
 lta.   Nel 2022\, la produzione nazionale dei rifiuti urbani - poco più d
 i 29\,1 milioni di tonnellate - non è allineata all’andamento dei pri
 ncipali indicatori socioeconomici: a fronte di incrementi del PIL e delle 
 spese delle famiglie (rispettivamente\, del 3\,7% e 6\,1%)\, i rifiuti urb
 ani diminuiscono in tutte le macroaree geografiche. Nei 14 comuni con popo
 lazione residente al di sopra dei 200 mila abitanti\, tra 2021 e 2022 si r
 egistra invece un lieve incremento dello 0\,4%.
LAST-MODIFIED;VALUE=DATE-TIME:20240320T130525Z
LOCATION:Roma\, Sala Polifunzionale della Presidenza del Consiglio dei Min
 istri\, Via Santa Maria in Via 37b
URL:https://www.isprambiente.gov.it/it/archivio/eventi/2023/12/rifiuti-urb
 ani-in-italia-produzione-raccolta-gestione-e-recupero-energetico
END:VEVENT
BEGIN:VTIMEZONE
TZID:Europe/Berlin
X-LIC-LOCATION:Europe/Berlin
BEGIN:STANDARD
DTSTART;VALUE=DATE-TIME:20231029T020000
TZNAME:CET
TZOFFSETFROM:+0200
TZOFFSETTO:+0100
END:STANDARD
END:VTIMEZONE
END:VCALENDAR
