BEGIN:VCALENDAR
VERSION:2.0
PRODID:-//Plone.org//NONSGML plone.app.event//EN
X-WR-TIMEZONE:Europe/Berlin
BEGIN:VEVENT
SUMMARY:“Rapporto ambiente SNPA - Edizione 2023"
DTSTART;TZID=Europe/Berlin;VALUE=DATE-TIME:20240221T093000
DTEND;TZID=Europe/Berlin;VALUE=DATE-TIME:20240221T123000
DTSTAMP;VALUE=DATE-TIME:20260423T025608Z
UID:291faf4ecd3a41f2b6ca0032a72f16f1@www.isprambiente.gov.it
CREATED;VALUE=DATE-TIME:20240125T112444Z
DESCRIPTION:Un Paese in linea con gli obiettivi europei e di sviluppo sost
 enibile per la produzione di energia da fonti rinnovabili\, che raggiunge 
 buoni livelli di raccolta differenziata dei rifiuti e diminuisce lo smalti
 mento in discarica. Continua il lento miglioramento della qualità dell’
 aria\, soprattutto del particolato PM 2\,5  buoni risultati con l’agrico
 ltura biologica\, aumentano i controlli agli impianti produttivi.   Meno b
 ene la situazione delle emissioni di gas serra\, l’incidenza del turismo
  sui rifiuti urbani\, la produzione di rifiuti speciali e il consumo di su
 olo. Stabile la situazione dei piani di adattamento ai cambiamenti climati
 ci\, della gestione delle aree protette e del rumore.
LAST-MODIFIED;VALUE=DATE-TIME:20250113T110539Z
LOCATION:Roma\, Sala Polifunzionale della Presidenza del Consiglio dei Min
 istri\, Via di Santa Maria in Via\, 37b
URL:https://www.isprambiente.gov.it/it/archivio/eventi/2024/02/presentazio
 ne-rapporto-ambiente-snpa-edizione-2023
END:VEVENT
BEGIN:VTIMEZONE
TZID:Europe/Berlin
X-LIC-LOCATION:Europe/Berlin
BEGIN:STANDARD
DTSTART;VALUE=DATE-TIME:20231029T020000
TZNAME:CET
TZOFFSETFROM:+0200
TZOFFSETTO:+0100
END:STANDARD
END:VTIMEZONE
END:VCALENDAR
