BEGIN:VCALENDAR
VERSION:2.0
PRODID:-//Plone.org//NONSGML plone.app.event//EN
X-WR-TIMEZONE:Europe/Berlin
BEGIN:VEVENT
SUMMARY:Le emissioni in atmosfera. Focus sul settore industriale
DTSTART;TZID=Europe/Berlin;VALUE=DATE-TIME:20240509T093000
DTEND;TZID=Europe/Berlin;VALUE=DATE-TIME:20240509T133000
DTSTAMP;VALUE=DATE-TIME:20260420T054741Z
UID:17fe350a2ca14dbbb08d9ce596367cfe@www.isprambiente.gov.it
CREATED;VALUE=DATE-TIME:20240418T083339Z
DESCRIPTION:Online l’ultima edizione della pubblicazione ISPRA “Le em
 issioni di gas serra in Italia. Obiettivi di riduzione al 2030”.   E’ 
 in diminuzione il trend delle emissioni di gas serra   che\, grazie alla 
 crescita negli ultimi anni della produzione di energia da fonti rinnovabil
 i (idroelettrico ed eolico) e al passaggio all’uso di combustibili a min
 or contenuto di carbonio\,   nel 2022 segnano un - 21% dal 1990.   Nono
 stante l’andamento positivo\,   le emissioni di gas serra in Italia neg
 li ultimi due anni continuano però a crescere e raggiungono nel 2022 un t
 otale pari a 413 milioni di tonnellate di CO 2    equivalente (+0.4% risp
 etto al 2021). Determinante l’aumento costante del settore trasporti\, l
 e cui emissioni provengono per oltre il 90% dal   trasporto stradale\, ch
 e rispetto all’anno precedente segna un +5% e conferma un trend che non 
 conosce pause e   supera il 7% dal 1990\, valore in controtendenza rispet
 to a quelli di tutti gli altri settori economici che al contrario registra
 no marcate riduzioni\, ad eccezione dei rifiuti che rappresentano circa il
  5% al totale nazionale.
LAST-MODIFIED;VALUE=DATE-TIME:20250113T111222Z
LOCATION:Roma\, Sala del Chiostro - Facoltà di Ingegneria\, Università S
 apienza\, Via Eudossiana\, 18/Online
URL:https://www.isprambiente.gov.it/it/archivio/eventi/2024/04/emissioni
END:VEVENT
BEGIN:VTIMEZONE
TZID:Europe/Berlin
X-LIC-LOCATION:Europe/Berlin
BEGIN:DAYLIGHT
DTSTART;VALUE=DATE-TIME:20240331T030000
TZNAME:CEST
TZOFFSETFROM:+0100
TZOFFSETTO:+0200
END:DAYLIGHT
END:VTIMEZONE
END:VCALENDAR
