BEGIN:VCALENDAR
VERSION:2.0
PRODID:-//Plone.org//NONSGML plone.app.event//EN
X-WR-TIMEZONE:Europe/Berlin
BEGIN:VEVENT
SUMMARY:Dancalia: il contributo dei geologi italiani nell'esplorazione del
 l’Afar
DTSTART;TZID=Europe/Berlin;VALUE=DATE-TIME:20240607T090000
DTEND;TZID=Europe/Berlin;VALUE=DATE-TIME:20240607T170000
DTSTAMP;VALUE=DATE-TIME:20260424T114620Z
UID:10c0375e5554428e87a20dc30fe3b391@www.isprambiente.gov.it
CREATED;VALUE=DATE-TIME:20240524T091625Z
DESCRIPTION:Il 7 giugno si è tenuta la conferenza dal titolo “Dancalia:
  il contributo dei geologi italiani nell'esplorazione dell’Afar”. La g
 iornata è stata l'occasione per approfondire\, con un approccio multidisc
 iplinare\, il ruolo svolto dalla comunità scientifica italiana nell'esplo
 razione della regione della Dancalia (Africa orientale). Sono infatti molt
 eplici gli esempi di geologi\, esploratori e scienziati di varie estrazion
 i che\, dal XIX secolo fino ai giorni nostri\, hanno percorso in lungo e i
 n largo la depressione dell’Afar\, una regione desolata ma ricchissima d
 i geositi: dal vulcano Erta Ale all’area di Dallol e alla Piana del Sale
 \, dalle sorgenti geotermali di Alalobed alla valle dell’Awash con i var
 i ritrovamenti fossili.
LAST-MODIFIED;VALUE=DATE-TIME:20250113T111906Z
LOCATION:Roma\, Villa Celimontana
URL:https://www.isprambiente.gov.it/it/archivio/eventi/2024/06/dancalia-il
 -contributo-dei-geologi-italiani-nell-esplorazione-dell-afar
END:VEVENT
BEGIN:VTIMEZONE
TZID:Europe/Berlin
X-LIC-LOCATION:Europe/Berlin
BEGIN:DAYLIGHT
DTSTART;VALUE=DATE-TIME:20240331T030000
TZNAME:CEST
TZOFFSETFROM:+0100
TZOFFSETTO:+0200
END:DAYLIGHT
END:VTIMEZONE
END:VCALENDAR
