BEGIN:VCALENDAR
VERSION:2.0
PRODID:-//Plone.org//NONSGML plone.app.event//EN
X-WR-TIMEZONE:Europe/Berlin
BEGIN:VEVENT
SUMMARY:Presentazione Rapporto “Consumo di suolo\, dinamiche territorial
 i e servizi ecosistemici” - Edizione 2024
DTSTART;TZID=Europe/Berlin;VALUE=DATE-TIME:20241203T100000
DTEND;TZID=Europe/Berlin;VALUE=DATE-TIME:20241203T130000
DTSTAMP;VALUE=DATE-TIME:20260420T083124Z
UID:3f0bd5a460804420bf64231ac0997b1c@www.isprambiente.gov.it
CREATED;VALUE=DATE-TIME:20241112T123858Z
DESCRIPTION:Il 3 dicembre\, presso la sede ISPRA di Roma\, è stata presen
 tata l'edizione 2024 del Rapporto “Consumo di suolo\, dinamiche territor
 iali e servizi ecosistemici” a cura del Sistema Nazionale per la Protezi
 one dell’Ambiente (SNPA).    La perdita dei servizi ecosistemici legata 
 al consumo di suolo non è solo un problema ambientale\, ma anche economic
 o:  nel 2023    la riduzione dell’” effetto spugna ”\, ossia  la 
 capacità del terreno di assorbire e trattenere l’acqua e regolare il ci
 clo idrologico\, secondo le stime\, costa al Paese oltre 400 milioni di eu
 ro all'anno . Un “caro suolo” che si affianca agli altri costi causati
  dalla perdita dei servizi ecosistemici dovuti alla diminuzione della qual
 ità dell'habitat\, alla perdita della produzione agricola\, allo stoccagg
 io di carbonio o alla regolazione del clima.
LAST-MODIFIED;VALUE=DATE-TIME:20250708T104123Z
LOCATION:Roma\, sede ISPRA\, sala Conferenze\, Via V. Brancati\, 48 e Onli
 ne
URL:https://www.isprambiente.gov.it/it/archivio/eventi/2024/12/presentazio
 ne-rapporto-consumo-di-suolo-dinamiche-territoriali-e-servizi-ecosistemici
 -edizione-2024
END:VEVENT
BEGIN:VTIMEZONE
TZID:Europe/Berlin
X-LIC-LOCATION:Europe/Berlin
BEGIN:STANDARD
DTSTART;VALUE=DATE-TIME:20241027T020000
TZNAME:CET
TZOFFSETFROM:+0200
TZOFFSETTO:+0100
END:STANDARD
END:VTIMEZONE
END:VCALENDAR
