BEGIN:VCALENDAR
VERSION:2.0
PRODID:-//Plone.org//NONSGML plone.app.event//EN
X-WR-TIMEZONE:Europe/Berlin
BEGIN:VEVENT
SUMMARY:Scuola odori 2024
DTSTART;VALUE=DATE:20241204
DTEND;VALUE=DATE:20241214
DTSTAMP;VALUE=DATE-TIME:20260420T164804Z
UID:e745267702e94308abc0a18a535c4a38@www.isprambiente.gov.it
CREATED;VALUE=DATE-TIME:20241107T134841Z
DESCRIPTION:4\, 6 e 13 dicembre 2024 dalle 09:00 alle 12:30   La Scuola 
 odori organizzata dal Sistema Nazionale per la Protezione dell’Ambiente
  e da RSE (Ricerca sul sistema energetico)\, in collaborazione con Uni\, A
 ccredia\, Unichim\, si terrà il 4\, 6 e 13 dicembre 2024. Il  programma 
  prevede tre sessioni\, delle quali l’ultima è esclusivamente rivolta 
 ai laboratori Snpa e agli uffici della pubblica amministrazione che operan
 o nel campo degli odori. Sarà rilasciato attestato di partecipazione qual
 ora sia seguito almeno il 75% dell’evento.
LAST-MODIFIED;VALUE=DATE-TIME:20250320T123608Z
LOCATION:Online\, Teams
URL:https://www.isprambiente.gov.it/it/archivio/eventi/2024/12/scuola-odor
 i-2024
END:VEVENT
END:VCALENDAR
