BEGIN:VCALENDAR
VERSION:2.0
PRODID:-//Plone.org//NONSGML plone.app.event//EN
X-WR-TIMEZONE:Europe/Berlin
BEGIN:VEVENT
SUMMARY:The Imitation Game
DTSTART;TZID=Europe/Berlin;VALUE=DATE-TIME:20250115T194500
DTEND;TZID=Europe/Berlin;VALUE=DATE-TIME:20250115T223000
DTSTAMP;VALUE=DATE-TIME:20260421T215252Z
UID:e03d29251dba4d11875144c3394465ef@www.isprambiente.gov.it
CREATED;VALUE=DATE-TIME:20241205T081606Z
DESCRIPTION:Cineclub Scienza: 4 film per discutere di scienza\, ambiente e
  cinema   Il primo incontro della rassegna  Cineclub Scienza \, nata dall
 a collaborazione tra ISPRA\, il   Dipartimento di Filosofia\, Comunicazi
 one e Spettacolo di Roma Tre    e la    Fondazione Teatro Palladium Univ
 ersità Roma Tre      sarà dedicato al film " The Imitation Game"\, l'in
 credibile storia vera del brillante matematico\, informatico e crittoanali
 sta Alan Turing che\, nel pieno della Seconda Guerra Mondiale\, collabora 
 col Regno Unito per decifrare il linguaggio in codice dei nazisti: Enigma.
LAST-MODIFIED;VALUE=DATE-TIME:20260203T104121Z
LOCATION:Roma\, Teatro Palladium\, Piazza Bartolomeo Romano\, 8
URL:https://www.isprambiente.gov.it/it/archivio/eventi/2025/01/the-imitati
 on-game
END:VEVENT
BEGIN:VTIMEZONE
TZID:Europe/Berlin
X-LIC-LOCATION:Europe/Berlin
BEGIN:STANDARD
DTSTART;VALUE=DATE-TIME:20241027T020000
TZNAME:CET
TZOFFSETFROM:+0200
TZOFFSETTO:+0100
END:STANDARD
END:VTIMEZONE
END:VCALENDAR
