BEGIN:VCALENDAR
VERSION:2.0
PRODID:-//Plone.org//NONSGML plone.app.event//EN
X-WR-TIMEZONE:Europe/Berlin
BEGIN:VEVENT
SUMMARY:Inventa\, innova e trasforma il futuro dei beni culturali con Cope
 rnicus
DTSTART;VALUE=DATE:20250509
DTEND;VALUE=DATE:20250512
DTSTAMP;VALUE=DATE-TIME:20260423T025607Z
UID:efbeaab8cf184a2fb64c6c03ebeef4c1@www.isprambiente.gov.it
CREATED;VALUE=DATE-TIME:20250207T091339Z
DESCRIPTION:ISPRA\, insieme con il  Forum Nazionale degli Utenti Copernic
 us  e il Centro Europeo per le previsioni meteorologiche a medio termine 
 ( ECMWF )\, organizza un Hackathon dal titolo “SpazioCulturale”. Si tr
 atta di un evento multidisciplinare per giovani talenti volto a promuovere
  innovazione nei settori del patrimonio culturale\, della qualità dell’
 aria e dei cambiamenti climatici\, avvalendosi dei prodotti Copernicus di 
 osservazione della Terra messi a disposizione dai servizi  CAMS  e  C3S .
LAST-MODIFIED;VALUE=DATE-TIME:20260203T104216Z
LOCATION:Bologna
URL:https://www.isprambiente.gov.it/it/archivio/eventi/2025/02/inventa-inn
 ova-e-trasforma-il-futuro-dei-beni-culturali-con-copernicus
END:VEVENT
END:VCALENDAR
