BEGIN:VCALENDAR
VERSION:2.0
PRODID:-//Plone.org//NONSGML plone.app.event//EN
X-WR-TIMEZONE:Europe/Berlin
BEGIN:VEVENT
SUMMARY:La donna elettrica
DTSTART;TZID=Europe/Berlin;VALUE=DATE-TIME:20250212T200000
DTEND;TZID=Europe/Berlin;VALUE=DATE-TIME:20250212T223000
DTSTAMP;VALUE=DATE-TIME:20260423T121720Z
UID:f3268e691fef414c82a44c8cc18ed574@www.isprambiente.gov.it
CREATED;VALUE=DATE-TIME:20250109T135735Z
DESCRIPTION:Cineclub Scienza: 4 film per discutere di scienza\, ambiente e
  cinema   Il secondo incontro della rassegna  Cineclub Scienza \, nata da
 lla collaborazione tra ISPRA\, il   Dipartimento di Filosofia\, Comunica
 zione e Spettacolo di Roma Tre    e la    Fondazione Teatro Palladium Un
 iversità Roma Tre      sarà dedicato al film "La donna elettrica".  La 
 pellicola è un thriller “ecologista” con protagonista una donna che\,
  in bilico tra attivismo ed ecoterrorismo\, lotta contro la devastazione d
 ella sua terra\, l’Islanda.
LAST-MODIFIED;VALUE=DATE-TIME:20260203T104215Z
LOCATION:Roma\, Teatro Palladium\, Piazza Bartolomeo Romano\, 8
URL:https://www.isprambiente.gov.it/it/archivio/eventi/2025/02/la-donna-el
 ettrica
END:VEVENT
BEGIN:VTIMEZONE
TZID:Europe/Berlin
X-LIC-LOCATION:Europe/Berlin
BEGIN:STANDARD
DTSTART;VALUE=DATE-TIME:20241027T020000
TZNAME:CET
TZOFFSETFROM:+0200
TZOFFSETTO:+0100
END:STANDARD
END:VTIMEZONE
END:VCALENDAR
