BEGIN:VCALENDAR
VERSION:2.0
PRODID:-//Plone.org//NONSGML plone.app.event//EN
X-WR-TIMEZONE:Europe/Berlin
BEGIN:VEVENT
SUMMARY:La nuova nave oceanografica dell’ISPRA: fino a 4000 metri di pro
 fondità per vincere la sfida dei cambiamenti climatici
DTSTART;TZID=Europe/Berlin;VALUE=DATE-TIME:20250715T093000
DTEND;TZID=Europe/Berlin;VALUE=DATE-TIME:20250715T130000
DTSTAMP;VALUE=DATE-TIME:20260423T034642Z
UID:8897a7bcc6c24be58b0eff51533e7dbf@www.isprambiente.gov.it
CREATED;VALUE=DATE-TIME:20250624T052148Z
DESCRIPTION:ISPRA ha presentato alla Camera Arcadia\, la nuova nave oceano
 grafica p  er esplorare il mare profondo e affrontare la sfida climatica  
   Il  progetto MER  – Marine Ecosystem Restoration ha un nuovo alleato
 : un laboratorio galleggiante all'avanguardia\, un simbolo di equilibrio t
 ra uomo e natura\, dove scienza e tecnologia si incontrano per dare voce a
 gli ecosistemi marini e fronteggiare le sfide ambientali del nostro tempo.
  È Arcadia\, la nuova nave oceanografica dell’ISPRA progettata per stud
 iare\, monitorare e proteggere gli ecosistemi marini del Mediterraneo. Tec
 nologie all’avanguardia\, missioni scientifiche multidisciplinari e un o
 biettivo chiaro: raccogliere dati\, costruire conoscenza e orientare le po
 litiche ambientali verso un futuro più sostenibile. Con Arcadia\, ISPRA r
 innova il proprio impegno nella tutela del mare\, mettendo in campo un’i
 nfrastruttura scientifica d’eccellenza al servizio della ricerca\, dell
 ’ambiente e della collettività.
LAST-MODIFIED;VALUE=DATE-TIME:20260203T122437Z
LOCATION:Roma\, Sala del Refettorio Biblioteca della Camera dei deputati N
 ilde Iotti\, Via del Seminario 76
URL:https://www.isprambiente.gov.it/it/archivio/eventi/2025/07/presentazio
 ne-nave
END:VEVENT
BEGIN:VTIMEZONE
TZID:Europe/Berlin
X-LIC-LOCATION:Europe/Berlin
BEGIN:DAYLIGHT
DTSTART;VALUE=DATE-TIME:20250330T030000
TZNAME:CEST
TZOFFSETFROM:+0100
TZOFFSETTO:+0200
END:DAYLIGHT
END:VTIMEZONE
END:VCALENDAR
