BEGIN:VCALENDAR
VERSION:2.0
PRODID:-//Plone.org//NONSGML plone.app.event//EN
X-WR-TIMEZONE:Europe/Berlin
BEGIN:VEVENT
SUMMARY:Citizen Science nel Tevere
DTSTART;TZID=Europe/Berlin;VALUE=DATE-TIME:20250926T183000
DTEND;TZID=Europe/Berlin;VALUE=DATE-TIME:20250926T230000
DTSTAMP;VALUE=DATE-TIME:20260423T104414Z
UID:27e90c88ed4c4fc0a0f48fd6cb3526bb@www.isprambiente.gov.it
CREATED;VALUE=DATE-TIME:20250904T073402Z
DESCRIPTION:Accompagneremo i partecipanti in un’attività di monitoraggi
 o ambientale sul Tevere\, prelevando campioni d’acqua e analizzandoli co
 n kit portatili per rilevare nitrati e fosfati. Scopriremo insieme cosa in
 dicano questi parametri\, le fonti di inquinamento e l’importanza di tut
 elare la qualità dei nostri fiumi.    Partecipazione consigliata a bambi
 ni ed adulti
LAST-MODIFIED;VALUE=DATE-TIME:20260203T122632Z
LOCATION:Roma Testaccio – Città dell’Altra Economia
URL:https://www.isprambiente.gov.it/it/archivio/eventi/2025/09/citizen-sci
 ence-nel-tevere
END:VEVENT
BEGIN:VTIMEZONE
TZID:Europe/Berlin
X-LIC-LOCATION:Europe/Berlin
BEGIN:DAYLIGHT
DTSTART;VALUE=DATE-TIME:20250330T030000
TZNAME:CEST
TZOFFSETFROM:+0100
TZOFFSETTO:+0200
END:DAYLIGHT
END:VTIMEZONE
END:VCALENDAR
