BEGIN:VCALENDAR
VERSION:2.0
PRODID:-//Plone.org//NONSGML plone.app.event//EN
X-WR-TIMEZONE:Europe/Berlin
BEGIN:VEVENT
SUMMARY:Coltivare il mare
DTSTART;TZID=Europe/Berlin;VALUE=DATE-TIME:20250926T183000
DTEND;TZID=Europe/Berlin;VALUE=DATE-TIME:20250926T230000
DTSTAMP;VALUE=DATE-TIME:20260420T215554Z
UID:16eebee942ff41c1b02f1d89892d4b7c@www.isprambiente.gov.it
CREATED;VALUE=DATE-TIME:20250904T065721Z
DESCRIPTION:Il laboratorio didattico è un'esperienza immersiva nel tema d
 ell'acquacoltura sostenibile. Opportunità e finalità dell'acquacoltura (
 es. produzioni alimentari\; conservazione di specie minacciate). Ambienti\
 , tecniche e specie acquatiche allevate. Interazioni tra acquacoltura ed e
 cosistemi marini in un clima che cambia.   Consigliato: da anni 8
LAST-MODIFIED;VALUE=DATE-TIME:20260203T122632Z
LOCATION:Roma Testaccio – Città dell’Altra Economia
URL:https://www.isprambiente.gov.it/it/archivio/eventi/2025/09/coltivare-i
 l-mare
END:VEVENT
BEGIN:VTIMEZONE
TZID:Europe/Berlin
X-LIC-LOCATION:Europe/Berlin
BEGIN:DAYLIGHT
DTSTART;VALUE=DATE-TIME:20250330T030000
TZNAME:CEST
TZOFFSETFROM:+0100
TZOFFSETTO:+0200
END:DAYLIGHT
END:VTIMEZONE
END:VCALENDAR
