BEGIN:VCALENDAR
VERSION:2.0
PRODID:-//Plone.org//NONSGML plone.app.event//EN
X-WR-TIMEZONE:Europe/Berlin
BEGIN:VEVENT
SUMMARY:Progetto LIFE Conceptu Maris tra gioco\, musica suoni
DTSTART;TZID=Europe/Berlin;VALUE=DATE-TIME:20250927T183000
DTEND;TZID=Europe/Berlin;VALUE=DATE-TIME:20250927T230000
DTSTAMP;VALUE=DATE-TIME:20260423T104712Z
UID:aacac0c59525455c9e94c83b1e98a8a9@www.isprambiente.gov.it
CREATED;VALUE=DATE-TIME:20250911T062710Z
DESCRIPTION:Il  progetto  è stato formulato sulla consapevolezza che il M
 ar Mediterraneo stia subendo gravi cambiamenti a causa delle crescenti pre
 ssioni antropiche. I cetacei e le tartarughe marine pelagiche sono tra le 
 specie più carismatiche e importanti dei nostri mari e bioindicatori cruc
 iali delle loro condizioni di salute\, poiché il loro benessere riflette 
 l’integrità della rete alimentare in ogni sua componente.    Verranno p
 roposte 2 diverse attività: 1) un gioco con le carte per imparare l'ecolo
 gia e la conservazione della specie 2) la musica ed i suoni con un video c
 i si immerge nei suoni del mare.   Consigliato: da anni 7
LAST-MODIFIED;VALUE=DATE-TIME:20260203T122633Z
LOCATION:Roma Testaccio – Città dell’Altra Economia
URL:https://www.isprambiente.gov.it/it/archivio/eventi/2025/09/progetto-li
 fe-conceptu-maris-tra-gioco-musica-suoni
END:VEVENT
BEGIN:VTIMEZONE
TZID:Europe/Berlin
X-LIC-LOCATION:Europe/Berlin
BEGIN:DAYLIGHT
DTSTART;VALUE=DATE-TIME:20250330T030000
TZNAME:CEST
TZOFFSETFROM:+0100
TZOFFSETTO:+0200
END:DAYLIGHT
END:VTIMEZONE
END:VCALENDAR
