BEGIN:VCALENDAR
VERSION:2.0
PRODID:-//Plone.org//NONSGML plone.app.event//EN
X-WR-TIMEZONE:Europe/Berlin
BEGIN:VEVENT
SUMMARY:Rete mareografica e previsione della marea
DTSTART;TZID=Europe/Berlin;VALUE=DATE-TIME:20250926T160000
DTEND;TZID=Europe/Berlin;VALUE=DATE-TIME:20250926T190000
DTSTAMP;VALUE=DATE-TIME:20260421T102457Z
UID:3d02f69ab0ba4ac7986b9bb0aa355352@www.isprambiente.gov.it
CREATED;VALUE=DATE-TIME:20250908T122214Z
LAST-MODIFIED;VALUE=DATE-TIME:20260203T122632Z
LOCATION:Venezia
URL:https://www.isprambiente.gov.it/it/archivio/eventi/2025/09/rete-mareog
 rafica-e-previsione-della-marea
END:VEVENT
BEGIN:VTIMEZONE
TZID:Europe/Berlin
X-LIC-LOCATION:Europe/Berlin
BEGIN:DAYLIGHT
DTSTART;VALUE=DATE-TIME:20250330T030000
TZNAME:CEST
TZOFFSETFROM:+0100
TZOFFSETTO:+0200
END:DAYLIGHT
END:VTIMEZONE
END:VCALENDAR
