BEGIN:VCALENDAR
VERSION:2.0
PRODID:-//Plone.org//NONSGML plone.app.event//EN
X-WR-TIMEZONE:Europe/Berlin
BEGIN:VEVENT
SUMMARY:Finanza sostenibile\, la piattaforma web realizzata da ISPRA con i
 l contributo del Ministero delle Imprese e del Made in Italy
DTSTART;TZID=Europe/Berlin;VALUE=DATE-TIME:20251105T103000
DTEND;TZID=Europe/Berlin;VALUE=DATE-TIME:20251105T110000
DTSTAMP;VALUE=DATE-TIME:20260425T192146Z
UID:f33c6a1ef1404d91bcacbfaecb701bca@www.isprambiente.gov.it
CREATED;VALUE=DATE-TIME:20251030T094107Z
DESCRIPTION:ISPRA\, con il contributo del MIMIT nell’ambito della campag
 na " Facciamo Circolare "\, sta sviluppando una piattaforma web per la fi
 nanza sostenibile rivolta a imprese\, cittadini e operatori finanziari. L'
 obiettivo è trasformare la Linea Guida ISPRA “ La sfida ambientale per 
 la finanza sostenibile: metodologie\, informazioni e indicatori ambientale
  ” in uno strumento digitale più accessibile e fruibile. La piattaforma
  opererà come un tool di supporto metodologico e di orientamento per faci
 litare la rendicontazione della sostenibilità ambientale in conformità c
 on i nuovi standard europei.
LAST-MODIFIED;VALUE=DATE-TIME:20260203T123609Z
LOCATION:Fiera di Rimini\, Ecomondo\, Stand MIMIT\, ISPRA/SNPA
URL:https://www.isprambiente.gov.it/it/archivio/eventi/2025/10/finanza-sos
 tenibile-la-piattaforma-web-realizzata-da-ispra-con-il-contributo-del-mini
 stero-delle-imprese-e-del-made-in-italy
END:VEVENT
BEGIN:VTIMEZONE
TZID:Europe/Berlin
X-LIC-LOCATION:Europe/Berlin
BEGIN:STANDARD
DTSTART;VALUE=DATE-TIME:20251026T020000
TZNAME:CET
TZOFFSETFROM:+0200
TZOFFSETTO:+0100
END:STANDARD
END:VTIMEZONE
END:VCALENDAR
