BEGIN:VCALENDAR
VERSION:2.0
PRODID:-//Plone.org//NONSGML plone.app.event//EN
X-WR-TIMEZONE:Europe/Berlin
BEGIN:VEVENT
SUMMARY:Un inquinamento\, una risposta integrata mare-costa. Incontri per 
 la gestione di emergenze di livello 2
DTSTART;VALUE=DATE:20251021
DTEND;VALUE=DATE:20251024
DTSTAMP;VALUE=DATE-TIME:20260420T165049Z
UID:df56bc8dff8d4fc1b6d2402dbecbea57@www.isprambiente.gov.it
CREATED;VALUE=DATE-TIME:20251016T132633Z
DESCRIPTION:Nell’ambito di una Convenzione tra MASE ed ISPRA\, è stato 
 avviato un progetto di approfondimento sulle sinergie operative discendent
 i dal “Piano antinquinamento MiTE” e le pianificazioni nazionali e loc
 ali\, che affrontano le modalità di risposta\, in mare e sulla costa\, in
  caso di inquinamenti accidentali causati da sversamenti di prodotti petro
 liferi e sostanze chimiche pericolose e nocive (HNS).
LAST-MODIFIED;VALUE=DATE-TIME:20260203T123020Z
LOCATION:Ancona\, sala Marconi ADSP MAC
URL:https://www.isprambiente.gov.it/it/archivio/eventi/2025/10/un-inquinam
 ento-una-risposta-integrata-mare-costa-incontri-per-la-gestione-di-emergen
 ze-di-livello-2-1
END:VEVENT
END:VCALENDAR
