BEGIN:VCALENDAR
VERSION:2.0
PRODID:-//Plone.org//NONSGML plone.app.event//EN
X-WR-TIMEZONE:Europe/Berlin
BEGIN:VEVENT
SUMMARY:Il Geodatabase Nazionale delle Cavità Artificiali
DTSTART;TZID=Europe/Berlin;VALUE=DATE-TIME:20251118T093000
DTEND;TZID=Europe/Berlin;VALUE=DATE-TIME:20251118T160000
DTSTAMP;VALUE=DATE-TIME:20260420T162550Z
UID:ed90e054fc86464dbfe897991e30c4ba@www.isprambiente.gov.it
CREATED;VALUE=DATE-TIME:20251016T123642Z
DESCRIPTION:I database delle cavità artificiali come strumento di conosce
 nza e documentazione\, finalizzato alla mitigazione del rischio   ISPRA\,
  in collaborazione con la Società Speleologica Italiana\, ha realizzato i
 l  Geodatabase Nazionale delle Cavità Artificiali (GNCA)  accessibile sul
  portale del Sistema Informativo Nazionale Ambientale (SINA).    Il GNCA 
 è un database in cui sono raccolti ubicazione\, dati e documentazioni\, p
 lanimetrie\, sezioni e report di sopralluogo relativi alle cavità artific
 iali censite sul territorio nazionale. I dati provengono dal database dell
 a Società Speleologica Italiana e dai vari dataset realizzati da ISPRA ne
 ll’ambito di studi e progetti specifici.
LAST-MODIFIED;VALUE=DATE-TIME:20260203T123718Z
LOCATION:Webinar
URL:https://www.isprambiente.gov.it/it/archivio/eventi/2025/11/il-geodatab
 ase-nazionale-delle-cavita-artificiali
END:VEVENT
BEGIN:VTIMEZONE
TZID:Europe/Berlin
X-LIC-LOCATION:Europe/Berlin
BEGIN:STANDARD
DTSTART;VALUE=DATE-TIME:20251026T020000
TZNAME:CET
TZOFFSETFROM:+0200
TZOFFSETTO:+0100
END:STANDARD
END:VTIMEZONE
END:VCALENDAR
