BEGIN:VCALENDAR
VERSION:2.0
PRODID:-//Plone.org//NONSGML plone.app.event//EN
X-WR-TIMEZONE:Europe/Berlin
BEGIN:VEVENT
SUMMARY:Presentazione del Rapporto rifiuti urbani Edizione 2025
DTSTART;TZID=Europe/Berlin;VALUE=DATE-TIME:20251211T093000
DTEND;TZID=Europe/Berlin;VALUE=DATE-TIME:20251211T133000
DTSTAMP;VALUE=DATE-TIME:20260420T045703Z
UID:9f09168db8c14563b49c6e850f70c7ea@www.isprambiente.gov.it
CREATED;VALUE=DATE-TIME:20251126T081120Z
DESCRIPTION:Presentata l'11 dicembre l’edizione 2025 del Rapporto Rifiut
 i Urbani   dell’ISPRA   Nel 2024\, la   produzione nazionale dei rifiu
 ti urbani   si attesta a poco più di 29\,9 milioni di tonnellate\, con u
 n incremento del 2\,3% rispetto al 2023. Nell’ultimo anno l’economia i
 taliana ha fatto registrare una crescita del Prodotto Interno Lordo e dell
 a Spesa per consumi finali sul territorio nazionale\, pari\, per entrambi 
 gli indicatori socioeconomici\, allo 0\,7%. Complessivamente\, nei 14 comu
 ni con popolazione residente al di sopra dei 200 mila abitanti si registra
  un aumento della produzione di rifiuti urbani dell’1\,8%.   Sul fronte 
 della   raccolta differenziata   il Mezzogiorno continua a ridurre il di
 vario con Centro e Nord. In aumento il dato nazionale\, che attesta la rac
 colta differenziata al 67\,7%\, con percentuali del 74\,2% al Nord\, del 6
 3\,2% al Centro e del 60\,2% al Sud.
LAST-MODIFIED;VALUE=DATE-TIME:20260209T125132Z
LOCATION:Roma\, Sala Polifunzionale della Presidenza del Consiglio dei Min
 istri\, Via Santa Maria in Via\, 37b
URL:https://www.isprambiente.gov.it/it/archivio/eventi/2025/12/presentazio
 ne-del-rapporto-rifiuti-urbani-edizione-2025
END:VEVENT
BEGIN:VTIMEZONE
TZID:Europe/Berlin
X-LIC-LOCATION:Europe/Berlin
BEGIN:STANDARD
DTSTART;VALUE=DATE-TIME:20251026T020000
TZNAME:CET
TZOFFSETFROM:+0200
TZOFFSETTO:+0100
END:STANDARD
END:VTIMEZONE
END:VCALENDAR
